BEGIN:VCALENDAR
VERSION:2.0
PRODID:-//Ghana Brain Tumor Foundation - ECPv6.15.20//NONSGML v1.0//EN
CALSCALE:GREGORIAN
METHOD:PUBLISH
X-WR-CALNAME:Ghana Brain Tumor Foundation
X-ORIGINAL-URL:https://ghbtf.org
X-WR-CALDESC:Events for Ghana Brain Tumor Foundation
REFRESH-INTERVAL;VALUE=DURATION:PT1H
X-Robots-Tag:noindex
X-PUBLISHED-TTL:PT1H
BEGIN:VTIMEZONE
TZID:America/Chicago
BEGIN:DAYLIGHT
TZOFFSETFROM:-0600
TZOFFSETTO:-0500
TZNAME:CDT
DTSTART:20240310T080000
END:DAYLIGHT
BEGIN:STANDARD
TZOFFSETFROM:-0500
TZOFFSETTO:-0600
TZNAME:CST
DTSTART:20241103T070000
END:STANDARD
BEGIN:DAYLIGHT
TZOFFSETFROM:-0600
TZOFFSETTO:-0500
TZNAME:CDT
DTSTART:20250309T080000
END:DAYLIGHT
BEGIN:STANDARD
TZOFFSETFROM:-0500
TZOFFSETTO:-0600
TZNAME:CST
DTSTART:20251102T070000
END:STANDARD
BEGIN:DAYLIGHT
TZOFFSETFROM:-0600
TZOFFSETTO:-0500
TZNAME:CDT
DTSTART:20260308T080000
END:DAYLIGHT
BEGIN:STANDARD
TZOFFSETFROM:-0500
TZOFFSETTO:-0600
TZNAME:CST
DTSTART:20261101T070000
END:STANDARD
END:VTIMEZONE
BEGIN:VTIMEZONE
TZID:America/Chicago
BEGIN:DAYLIGHT
TZOFFSETFROM:-0600
TZOFFSETTO:-0500
TZNAME:CDT
DTSTART:20230312T080000
END:DAYLIGHT
BEGIN:STANDARD
TZOFFSETFROM:-0500
TZOFFSETTO:-0600
TZNAME:CST
DTSTART:20231105T070000
END:STANDARD
BEGIN:DAYLIGHT
TZOFFSETFROM:-0600
TZOFFSETTO:-0500
TZNAME:CDT
DTSTART:20240310T080000
END:DAYLIGHT
BEGIN:STANDARD
TZOFFSETFROM:-0500
TZOFFSETTO:-0600
TZNAME:CST
DTSTART:20241103T070000
END:STANDARD
BEGIN:DAYLIGHT
TZOFFSETFROM:-0600
TZOFFSETTO:-0500
TZNAME:CDT
DTSTART:20250309T080000
END:DAYLIGHT
BEGIN:STANDARD
TZOFFSETFROM:-0500
TZOFFSETTO:-0600
TZNAME:CST
DTSTART:20251102T070000
END:STANDARD
END:VTIMEZONE
BEGIN:VEVENT
DTSTART;TZID=America/Chicago:20251108T180000
DTEND;TZID=America/Chicago:20251108T230000
DTSTAMP:20260424T145808
CREATED:20250823T164437Z
LAST-MODIFIED:20250823T165914Z
UID:14619-1762624800-1762642800@ghbtf.org
SUMMARY:ANNUAL GALA
DESCRIPTION:HOPE & HEALING: Bridging the Gap in Brain Cancer Care \nGET YOUR TICKETS NOW!
URL:https://ghbtf.org/event/annual-gala/
LOCATION:Hotel Zaza Museum District Houston\, 5701 Main Street\, Houston\, TX\, 77005\, United States
CATEGORIES:Events
ATTACH;FMTTYPE=image/jpeg:https://ghbtf.org/wp-content/uploads/2025/08/hope-and-healing-15-e1755967440341.jpg
END:VEVENT
BEGIN:VEVENT
DTSTART;TZID=America/Chicago:20241026T180000
DTEND;TZID=America/Chicago:20241026T180000
DTSTAMP:20260424T145808
CREATED:20240615T154654Z
LAST-MODIFIED:20241111T024032Z
UID:13758-1729965600-1729965600@ghbtf.org
SUMMARY:INAUGURAL GALA
DESCRIPTION:Join our mission to raise awareness\, transform lives and bring renewed hope to those impacted by brain tumors.Grab Your Ticket!
URL:https://ghbtf.org/event/inaugural-gala/
LOCATION:Hotel Zaza Museum District Houston\, 5701 Main Street\, Houston\, TX\, 77005\, United States
CATEGORIES:Events
ATTACH;FMTTYPE=image/jpeg:https://ghbtf.org/wp-content/uploads/2024/06/GBTF-GALA_by-eventphotogirl-_cam2_165-scaled.jpg
END:VEVENT
END:VCALENDAR